BEGIN:VCALENDAR
VERSION:2.0
PRODID:-//CLM Community Action Agency - ECPv6.15.12.2//NONSGML v1.0//EN
CALSCALE:GREGORIAN
METHOD:PUBLISH
X-WR-CALNAME:CLM Community Action Agency
X-ORIGINAL-URL:https://cms.clmcaa.org
X-WR-CALDESC:Events for CLM Community Action Agency
REFRESH-INTERVAL;VALUE=DURATION:PT1H
X-Robots-Tag:noindex
X-PUBLISHED-TTL:PT1H
BEGIN:VTIMEZONE
TZID:UTC
BEGIN:STANDARD
TZOFFSETFROM:+0000
TZOFFSETTO:+0000
TZNAME:UTC
DTSTART:20230101T000000
END:STANDARD
END:VTIMEZONE
BEGIN:VEVENT
DTSTART;TZID=UTC:20241122T080000
DTEND;TZID=UTC:20241220T170000
DTSTAMP:20260419T184559
CREATED:20241126T214559Z
LAST-MODIFIED:20250123T204105Z
UID:941-1732262400-1734714000@cms.clmcaa.org
SUMMARY:Snow Pants Drive
DESCRIPTION:Snow Pants Drive: Help Keep Kids Warm This Winter! \n\n\nWe’re collecting new and gently used boys’ and girls’ snow pants to support local kids in need.\n\n\n\n Sizes Needed: 2T up to 6X\n\n\n\n Drop-off Locations:\nNewberry: 207 Newberry Ave\nSault Ste. Marie: 524 Ashmun St\nSt. Ignace: 368 Reagon St\n\n\n\n\n\n\nYour generosity will make a big difference in keeping little ones warm this winter. Thank you for supporting our community!
URL:https://cms.clmcaa.org/event/snow-pants-drive/
LOCATION:MI
END:VEVENT
END:VCALENDAR