BEGIN:VCALENDAR
VERSION:2.0
PRODID:-//CLM Community Action Agency - ECPv6.15.12.2//NONSGML v1.0//EN
CALSCALE:GREGORIAN
METHOD:PUBLISH
X-WR-CALNAME:CLM Community Action Agency
X-ORIGINAL-URL:https://cms.clmcaa.org
X-WR-CALDESC:Events for CLM Community Action Agency
REFRESH-INTERVAL;VALUE=DURATION:PT1H
X-Robots-Tag:noindex
X-PUBLISHED-TTL:PT1H
BEGIN:VTIMEZONE
TZID:UTC
BEGIN:STANDARD
TZOFFSETFROM:+0000
TZOFFSETTO:+0000
TZNAME:UTC
DTSTART:20240101T000000
END:STANDARD
END:VTIMEZONE
BEGIN:VEVENT
DTSTART;TZID=UTC:20250411T110000
DTEND;TZID=UTC:20250411T130000
DTSTAMP:20260420T125139
CREATED:20250324T122504Z
LAST-MODIFIED:20250409T200019Z
UID:1153-1744369200-1744376400@cms.clmcaa.org
SUMMARY:Open House: Kinross Head Start
DESCRIPTION:Open House at Kinross Head Start \nCome check out our classroom and meet your teachers! \n???? Date: Friday\, April 11th \n????Location: 4730 Osborn Pl \n⏰ Time: 11am-1pm \n  \nPlease bring: \n✅ Your child’s birth certificate\n✅ Your child’s shot record\n✅ Proof of income \nPlease note: Your child must be 3 years old by September 1\, 2025 \nQuestions? Call Jamie Lehigh: (906) 495-2243
URL:https://cms.clmcaa.org/event/kinross-open-house/
LOCATION:Kinross Head Start\, 4730 W. Osborn\, Kincheloe\, 49788\, United States
END:VEVENT
BEGIN:VEVENT
DTSTART;TZID=UTC:20250411T130000
DTEND;TZID=UTC:20250411T150000
DTSTAMP:20260420T125139
CREATED:20250324T121934Z
LAST-MODIFIED:20250409T193503Z
UID:1148-1744376400-1744383600@cms.clmcaa.org
SUMMARY:Open House: Brimley Head Start/GSRP
DESCRIPTION:Open House at Brimley Head Start/GSRP \nCome check out our classroom and meet your teachers! \n???? Date: Friday\, April 11th \n????Location: 7134 M-221 \n⏰ Time: 1pm-3pm \n  \nPlease bring: \n✅ Your child’s birth certificate\n✅ Your child’s shot record\n✅ Proof of income \nPlease note: Your child must be 3 years old by September 1\, 2025 for Head Start & 4 Years old for GSRP \nQuestions? Call Jill Skiles: (906) 248-3217 ext. 522
URL:https://cms.clmcaa.org/event/brimley-open-house/
LOCATION:Brimley Head Start Center\, 7134 M-221\, Brimley\, MI\, 49715\, United States
END:VEVENT
END:VCALENDAR