BEGIN:VCALENDAR
VERSION:2.0
PRODID:-//CLM Community Action Agency - ECPv6.15.12.2//NONSGML v1.0//EN
CALSCALE:GREGORIAN
METHOD:PUBLISH
X-ORIGINAL-URL:https://cms.clmcaa.org
X-WR-CALDESC:Events for CLM Community Action Agency
REFRESH-INTERVAL;VALUE=DURATION:PT1H
X-Robots-Tag:noindex
X-PUBLISHED-TTL:PT1H
BEGIN:VTIMEZONE
TZID:UTC
BEGIN:STANDARD
TZOFFSETFROM:+0000
TZOFFSETTO:+0000
TZNAME:UTC
DTSTART:20240101T000000
END:STANDARD
END:VTIMEZONE
BEGIN:VEVENT
DTSTART;TZID=UTC:20250430T110000
DTEND;TZID=UTC:20250430T140000
DTSTAMP:20260422T125113
CREATED:20250408T132745Z
LAST-MODIFIED:20250408T133106Z
UID:1225-1746010800-1746021600@cms.clmcaa.org
SUMMARY:Bingo Burger Bash Supporting Tammy Matelski & Family
DESCRIPTION:Join us for a Bingo Burger Bash Fundraiser! \nWe’re coming together to support Tammy Matelski and her family to help with medical expenses. For just $8\, you’ll enjoy a tasty burger lunch and a bingo card to join the fun! \n???? Tuesday\, April 30???? 11 AM – 2 PM???? Newberry Community Action Agency – 207 Newberry Ave\, Newberry\, MI \nBring your appetite\, your bingo skills\, and your big heart. All proceeds will go directly to Tammy and her family. \nLet’s rally around our community—we hope to see you there!
URL:https://cms.clmcaa.org/event/bingo-burger-bash-supporting-tammy-matelski-family/
LOCATION:Newberry Community Action Agency\, 207 Newberry Ave\, Newberry\, MI\, 49868\, United States
END:VEVENT
END:VCALENDAR